Workbook

Sheet Cartera
A1: Plan de inversión inmobiliaria 2026-2030 · Cartera de activos
A4: ID activo | B4: Estado | C4: Tipo de inmueble | D4: Dirección | E4: Municipio | F4: Provincia | G4: Referencia catastral | H4: Propietario / sociedad patrimonial | I4: NIF | J4: Fecha prevista de compra | K4: Precio de compra | L4: Gastos de adquisición | M4: Reforma inicial | N4: Inversión total | O4: Financiación hipotecaria | P4: Capital aportado | Q4: Tipo de interés anual | R4: Plazo hipotecario (años) | S4: Cuota hipotecaria mensual | T4: Renta mensual inicial | U4: Crecimiento anual de renta | V4: Gastos comunidad mensuales | W4: IBI anual | X4: Seguro anual | Y4: Tasa de ocupación | Z4: Rentabilidad bruta | AA4: Flujo de caja mensual inicial | AB4: Rentabilidad neta sobre capital | AC4: Observaciones
A5: ACT-001 | B5: En cartera | C5: Piso | D5: Calle Mayor 12, 3ºB | E5: Madrid | F5: Madrid | G5: 2807901VK4720G0032AB | H5: María García | I5: 12345678Z | J5: 46068 | K5: 285000 | L5: 28500 | M5: 20000 | N5: =IF($A5="","",$K5+$L5+$M5) | O5: 210000 | P5: =IF($A5="","",$N5-$O5) | Q5: 0.0315 | R5: 25 | S5: =IF($A5="","",IFERROR(PMT($Q5/12,$R5*12,-$O5),0)) | T5: 1450 | U5: 0.025 | V5: 105 | W5: 620 | X5: 240 | Y5: 0.96 | Z5: =IF($A5="","",IFERROR($T5*12/$K5,0)) | AA5: =IF($A5="","",$T5*$Y5-$V5-$W5/12-$X5/12-$S5) | AB5: =IF($A5="","",IFERROR($AA5*12/$P5,0))
A6: ACT-002 | B6: En cartera | C6: Piso | D6: Av. Diagonal 405 | E6: Barcelona | F6: Barcelona | G6: 0801902DF3810B0065CD | H6: Antonio López | I6: 23456789B | J6: 46203 | K6: 420000 | L6: 42000 | M6: 30000 | N6: =IF($A6="","",$K6+$L6+$M6) | O6: 280000 | P6: =IF($A6="","",$N6-$O6) | Q6: 0.032 | R6: 25 | S6: =IF($A6="","",IFERROR(PMT($Q6/12,$R6*12,-$O6),0)) | T6: 1950 | U6: 0.025 | V6: 160 | W6: 980 | X6: 310 | Y6: 0.94 | Z6: =IF($A6="","",IFERROR($T6*12/$K6,0)) | AA6: =IF($A6="","",$T6*$Y6-$V6-$W6/12-$X6/12-$S6) | AB6: =IF($A6="","",IFERROR($AA6*12/$P6,0))
A7: ACT-003 | B7: En análisis | C7: Vivienda | D7: Calle Sierpes 8 | E7: Sevilla | F7: Sevilla | G7: 4109103TG3441S0018EF | H7: Carmen Ruiz | I7: 34567890C | J7: 46466 | K7: 195000 | L7: 19500 | M7: 15000 | N7: =IF($A7="","",$K7+$L7+$M7) | O7: 145000 | P7: =IF($A7="","",$N7-$O7) | Q7: 0.031 | R7: 25 | S7: =IF($A7="","",IFERROR(PMT($Q7/12,$R7*12,-$O7),0)) | T7: 1050 | U7: 0.03 | V7: 85 | W7: 430 | X7: 190 | Y7: 0.95 | Z7: =IF($A7="","",IFERROR($T7*12/$K7,0)) | AA7: =IF($A7="","",$T7*$Y7-$V7-$W7/12-$X7/12-$S7) | AB7: =IF($A7="","",IFERROR($AA7*12/$P7,0))
A8: ACT-004 | B8: Previsto | C8: Local transformable | D8: Calle Colón 22 | E8: Valencia | F8: Valencia | G8: 4625104YJ2761N0027GH | H8: José Martínez | I8: 45678901D | J8: 46706 | K8: 240000 | L8: 24000 | M8: 60000 | N8: =IF($A8="","",$K8+$L8+$M8) | O8: 180000 | P8: =IF($A8="","",$N8-$O8) | Q8: 0.034 | R8: 20 | S8: =IF($A8="","",IFERROR(PMT($Q8/12,$R8*12,-$O8),0)) | T8: 1250 | U8: 0.025 | V8: 120 | W8: 850 | X8: 420 | Y8: 0.9 | Z8: =IF($A8="","",IFERROR($T8*12/$K8,0)) | AA8: =IF($A8="","",$T8*$Y8-$V8-$W8/12-$X8/12-$S8) | AB8: =IF($A8="","",IFERROR($AA8*12/$P8,0))
A9: ACT-005 | B9: En cartera | C9: Apartamento | D9: Calle Larios 18 | E9: Málaga | F9: Málaga | G9: 2906705UF6658H0041JK | H9: Laura Fernández | I9: 56789012E | J9: 46811 | K9: 265000 | L9: 26500 | M9: 10000 | N9: =IF($A9="","",$K9+$L9+$M9) | O9: 190000 | P9: =IF($A9="","",$N9-$O9) | Q9: 0.0325 | R9: 25 | S9: =IF($A9="","",IFERROR(PMT($Q9/12,$R9*12,-$O9),0)) | T9: 1350 | U9: 0.03 | V9: 95 | W9: 610 | X9: 240 | Y9: 0.93 | Z9: =IF($A9="","",IFERROR($T9*12/$K9,0)) | AA9: =IF($A9="","",$T9*$Y9-$V9-$W9/12-$X9/12-$S9) | AB9: =IF($A9="","",IFERROR($AA9*12/$P9,0))
A10: ACT-006 | B10: En análisis | C10: Piso | D10: Calle Alfonso I 14 | E10: Zaragoza | F10: Zaragoza | G10: 5029706XM8173K0092LM | H10: Manuel Sánchez | I10: 67890123F | J10: 47026 | K10: 175000 | L10: 17500 | M10: 22000 | N10: =IF($A10="","",$K10+$L10+$M10) | O10: 130000 | P10: =IF($A10="","",$N10-$O10) | Q10: 0.0305 | R10: 25 | S10: =IF($A10="","",IFERROR(PMT($Q10/12,$R10*12,-$O10),0)) | T10: 920 | U10: 0.025 | V10: 78 | W10: 380 | X10: 175 | Y10: 0.95 | Z10: =IF($A10="","",IFERROR($T10*12/$K10,0)) | AA10: =IF($A10="","",$T10*$Y10-$V10-$W10/12-$X10/12-$S10) | AB10: =IF($A10="","",IFERROR($AA10*12/$P10,0))
A11: ACT-007 | B11: Previsto | C11: Vivienda | D11: Calle Uría 27 | E11: Oviedo | F11: Asturias | G11: 3304407TK6264L0035NP | H11: Inversiones García Patrimonial, S.L. | I11: B87654321 | J11: 47223 | K11: 155000 | L11: 15500 | M11: 12000 | N11: =IF($A11="","",$K11+$L11+$M11) | O11: 100000 | P11: =IF($A11="","",$N11-$O11) | Q11: 0.033 | R11: 20 | S11: =IF($A11="","",IFERROR(PMT($Q11/12,$R11*12,-$O11),0)) | T11: 850 | U11: 0.025 | V11: 70 | W11: 330 | X11: 165 | Y11: 0.92 | Z11: =IF($A11="","",IFERROR($T11*12/$K11,0)) | AA11: =IF($A11="","",$T11*$Y11-$V11-$W11/12-$X11/12-$S11) | AB11: =IF($A11="","",IFERROR($AA11*12/$P11,0))
A12: ACT-008 | B12: Previsto | C12: Chalet adosado | D12: Calle de la Paz 6 | E12: Alicante | F12: Alicante | G12: 0301408YH1548P0012QR | H12: Inversiones García Patrimonial, S.L. | I12: B87654321 | J12: 47472 | K12: 310000 | L12: 31000 | M12: 35000 | N12: =IF($A12="","",$K12+$L12+$M12) | O12: 220000 | P12: =IF($A12="","",$N12-$O12) | Q12: 0.0345 | R12: 25 | S12: =IF($A12="","",IFERROR(PMT($Q12/12,$R12*12,-$O12),0)) | T12: 1600 | U12: 0.03 | V12: 115 | W12: 780 | X12: 295 | Y12: 0.91 | Z12: =IF($A12="","",IFERROR($T12*12/$K12,0)) | AA12: =IF($A12="","",$T12*$Y12-$V12-$W12/12-$X12/12-$S12) | AB12: =IF($A12="","",IFERROR($AA12*12/$P12,0))
A13: ACT-009 | B13: Previsto | C13: Piso | D13: Calle Hernani 9 | E13: Bilbao | F13: Bizkaia | G13: 4802009VP9475R0074ST | H13: María García | I13: 12345678Z | J13: 47756 | K13: 335000 | L13: 33500 | M13: 18000 | N13: =IF($A13="","",$K13+$L13+$M13) | O13: 230000 | P13: =IF($A13="","",$N13-$O13) | Q13: 0.0335 | R13: 25 | S13: =IF($A13="","",IFERROR(PMT($Q13/12,$R13*12,-$O13),0)) | T13: 1550 | U13: 0.025 | V13: 135 | W13: 890 | X13: 310 | Y13: 0.94 | Z13: =IF($A13="","",IFERROR($T13*12/$K13,0)) | AA13: =IF($A13="","",$T13*$Y13-$V13-$W13/12-$X13/12-$S13) | AB13: =IF($A13="","",IFERROR($AA13*12/$P13,0))
N14: =IF($A14="","",$K14+$L14+$M14) | P14: =IF($A14="","",$N14-$O14) | S14: =IF($A14="","",IFERROR(PMT($Q14/12,$R14*12,-$O14),0)) | Z14: =IF($A14="","",IFERROR($T14*12/$K14,0)) | AA14: =IF($A14="","",$T14*$Y14-$V14-$W14/12-$X14/12-$S14) | AB14: =IF($A14="","",IFERROR($AA14*12/$P14,0))
N15: =IF($A15="","",$K15+$L15+$M15) | P15: =IF($A15="","",$N15-$O15) | S15: =IF($A15="","",IFERROR(PMT($Q15/12,$R15*12,-$O15),0)) | Z15: =IF($A15="","",IFERROR($T15*12/$K15,0)) | AA15: =IF($A15="","",$T15*$Y15-$V15-$W15/12-$X15/12-$S15) | AB15: =IF($A15="","",IFERROR($AA15*12/$P15,0))
N16: =IF($A16="","",$K16+$L16+$M16) | P16: =IF($A16="","",$N16-$O16) | S16: =IF($A16="","",IFERROR(PMT($Q16/12,$R16*12,-$O16),0)) | Z16: =IF($A16="","",IFERROR($T16*12/$K16,0)) | AA16: =IF($A16="","",$T16*$Y16-$V16-$W16/12-$X16/12-$S16) | AB16: =IF($A16="","",IFERROR($AA16*12/$P16,0))
N17: =IF($A17="","",$K17+$L17+$M17) | P17: =IF($A17="","",$N17-$O17) | S17: =IF($A17="","",IFERROR(PMT($Q17/12,$R17*12,-$O17),0)) | Z17: =IF($A17="","",IFERROR($T17*12/$K17,0)) | AA17: =IF($A17="","",$T17*$Y17-$V17-$W17/12-$X17/12-$S17) | AB17: =IF($A17="","",IFERROR($AA17*12/$P17,0))
N18: =IF($A18="","",$K18+$L18+$M18) | P18: =IF($A18="","",$N18-$O18) | S18: =IF($A18="","",IFERROR(PMT($Q18/12,$R18*12,-$O18),0)) | Z18: =IF($A18="","",IFERROR($T18*12/$K18,0)) | AA18: =IF($A18="","",$T18*$Y18-$V18-$W18/12-$X18/12-$S18) | AB18: =IF($A18="","",IFERROR($AA18*12/$P18,0))
N19: =IF($A19="","",$K19+$L19+$M19) | P19: =IF($A19="","",$N19-$O19) | S19: =IF($A19="","",IFERROR(PMT($Q19/12,$R19*12,-$O19),0)) | Z19: =IF($A19="","",IFERROR($T19*12/$K19,0)) | AA19: =IF($A19="","",$T19*$Y19-$V19-$W19/12-$X19/12-$S19) | AB19: =IF($A19="","",IFERROR($AA19*12/$P19,0))
N20: =IF($A20="","",$K20+$L20+$M20) | P20: =IF($A20="","",$N20-$O20) | S20: =IF($A20="","",IFERROR(PMT($Q20/12,$R20*12,-$O20),0)) | Z20: =IF($A20="","",IFERROR($T20*12/$K20,0)) | AA20: =IF($A20="","",$T20*$Y20-$V20-$W20/12-$X20/12-$S20) | AB20: =IF($A20="","",IFERROR($AA20*12/$P20,0))
N21: =IF($A21="","",$K21+$L21+$M21) | P21: =IF($A21="","",$N21-$O21) | S21: =IF($A21="","",IFERROR(PMT($Q21/12,$R21*12,-$O21),0)) | Z21: =IF($A21="","",IFERROR($T21*12/$K21,0)) | AA21: =IF($A21="","",$T21*$Y21-$V21-$W21/12-$X21/12-$S21) | AB21: =IF($A21="","",IFERROR($AA21*12/$P21,0))
N22: =IF($A22="","",$K22+$L22+$M22) | P22: =IF($A22="","",$N22-$O22) | S22: =IF($A22="","",IFERROR(PMT($Q22/12,$R22*12,-$O22),0)) | Z22: =IF($A22="","",IFERROR($T22*12/$K22,0)) | AA22: =IF($A22="","",$T22*$Y22-$V22-$W22/12-$X22/12-$S22) | AB22: =IF($A22="","",IFERROR($AA22*12/$P22,0))
N23: =IF($A23="","",$K23+$L23+$M23) | P23: =IF($A23="","",$N23-$O23) | S23: =IF($A23="","",IFERROR(PMT($Q23/12,$R23*12,-$O23),0)) | Z23: =IF($A23="","",IFERROR($T23*12/$K23,0)) | AA23: =IF($A23="","",$T23*$Y23-$V23-$W23/12-$X23/12-$S23) | AB23: =IF($A23="","",IFERROR($AA23*12/$P23,0))
N24: =IF($A24="","",$K24+$L24+$M24) | P24: =IF($A24="","",$N24-$O24) | S24: =IF($A24="","",IFERROR(PMT($Q24/12,$R24*12,-$O24),0)) | Z24: =IF($A24="","",IFERROR($T24*12/$K24,0)) | AA24: =IF($A24="","",$T24*$Y24-$V24-$W24/12-$X24/12-$S24) | AB24: =IF($A24="","",IFERROR($AA24*12/$P24,0))
N25: =IF($A25="","",$K25+$L25+$M25) | P25: =IF($A25="","",$N25-$O25) | S25: =IF($A25="","",IFERROR(PMT($Q25/12,$R25*12,-$O25),0)) | Z25: =IF($A25="","",IFERROR($T25*12/$K25,0)) | AA25: =IF($A25="","",$T25*$Y25-$V25-$W25/12-$X25/12-$S25) | AB25: =IF($A25="","",IFERROR($AA25*12/$P25,0))
... N104: =IF($A104="","",$K104+$L104+$M104) | P104: =IF($A104="","",$N104-$O104) | S104: =IF($A104="","",IFERROR(PMT($Q104/12,$R104*12,-$O104),0)) | Z104: =IF($A104="","",IFERROR($T104*12/$K104,0)) | AA104: =IF($A104="","",$T104*$Y104-$V104-$W104/12-$X104/12-$S104) | AB104: =IF($A104="","",IFERROR($AA104*12/$P104,0))

Sheet Proyección 5 años
A1: Proyección financiera anual 2026-2030
A3: Revalorización anual | B3: 0.03 | D3: Mantenimiento sobre ingresos | E3: 0.04
A4: Gestión inmobiliaria sobre ingresos | B4: 0.05 | D4: Ocupación base | E4: 0.95
A5: IRPF estimado | B5: 0.19 | D5: Amortización fiscal estimada | E5: 0.03
A7: Nota fiscal: el IRPF es una estimación. La tributación real depende del contribuyente, la reducción aplicable al alquiler de vivienda habitual, los gastos deducibles y la normativa vigente.
A9: Año | B9: ID activo | C9: Municipio | D9: Precio o inversión inicial | E9: Renta mensual proyectada | F9: Crecimiento de renta | G9: Renta anual bruta | H9: Ocupación | I9: Ingresos efectivos | J9: Comunidad | K9: IBI | L9: Seguro | M9: Mantenimiento | N9: Gestión inmobiliaria | O9: Gastos deducibles | P9: Intereses hipotecarios | Q9: Amortización fiscal estimada | R9: Resultado antes de impuestos | S9: IRPF estimado | T9: Flujo de caja anual | U9: Saldo hipotecario estimado | V9: Valor de mercado | W9: Revalorización anual | X9: Patrimonio neto | Y9: ROI anual
A10: 2026 | B10: ACT-001 | C10: =IF($B10="","",IFERROR(VLOOKUP($B10,'Cartera'!$A$5:$AC$104,5,FALSE),"")) | D10: =IF($B10="","",IFERROR(VLOOKUP($B10,'Cartera'!$A$5:$AC$104,14,FALSE),0)) | E10: =IF($B10="","",IFERROR(VLOOKUP($B10,'Cartera'!$A$5:$AC$104,20,FALSE)*(1+$F10)^($A10-2026),0)) | F10: =IF($B10="","",IFERROR(VLOOKUP($B10,'Cartera'!$A$5:$AC$104,21,FALSE),0)) | G10: =IF($B10="","",$E10*12) | H10: =IF($B10="","",IFERROR(VLOOKUP($B10,'Cartera'!$A$5:$AC$104,25,FALSE),'Proyección 5 años'!$E$4)) | I10: =IF($B10="","",$G10*$H10) | J10: =IF($B10="","",IFERROR(VLOOKUP($B10,'Cartera'!$A$5:$AC$104,22,FALSE)*12,0)) | K10: =IF($B10="","",IFERROR(VLOOKUP($B10,'Cartera'!$A$5:$AC$104,23,FALSE),0)) | L10: =IF($B10="","",IFERROR(VLOOKUP($B10,'Cartera'!$A$5:$AC$104,24,FALSE),0)) | M10: =IF($B10="","",$I10*'Proyección 5 años'!$E$3) | N10: =IF($B10="","",$I10*'Proyección 5 años'!$B$4) | O10: =IF($B10="","",SUM($J10:$N10)) | P10: =IF($B10="","",IFERROR(VLOOKUP($B10,'Cartera'!$A$5:$AC$104,15,FALSE)*VLOOKUP($B10,'Cartera'!$A$5:$AC$104,17,FALSE),0)) | Q10: =IF($B10="","",$D10*'Proyección 5 años'!$E$5) | R10: =IF($B10="","",$I10-SUM($J10:$N10,$P10:$Q10)) | S10: =IF($B10="","",IF($R10>0,$R10*'Proyección 5 años'!$B$5,0)) | T10: =IF($B10="","",$R10-$S10) | U10: =IF($B10="","",MAX(0,IFERROR(VLOOKUP($B10,'Cartera'!$A$5:$AC$104,15,FALSE)-($A10-2026+1)*VLOOKUP($B10,'Cartera'!$A$5:$AC$104,19,FALSE)*12*0.55,0))) | V10: =IF($B10="","",$D10*(1+'Proyección 5 años'!$B$3)^($A10-2026)) | W10: =IF($B10="","",'Proyección 5 años'!$B$3) | X10: =IF($B10="","",$V10-$U10) | Y10: =IF($B10="","",IFERROR($T10/$D10,0))
A11: 2027 | B11: ACT-001 | C11: =IF($B11="","",IFERROR(VLOOKUP($B11,'Cartera'!$A$5:$AC$104,5,FALSE),"")) | D11: =IF($B11="","",IFERROR(VLOOKUP($B11,'Cartera'!$A$5:$AC$104,14,FALSE),0)) | E11: =IF($B11="","",IFERROR(VLOOKUP($B11,'Cartera'!$A$5:$AC$104,20,FALSE)*(1+$F11)^($A11-2026),0)) | F11: =IF($B11="","",IFERROR(VLOOKUP($B11,'Cartera'!$A$5:$AC$104,21,FALSE),0)) | G11: =IF($B11="","",$E11*12) | H11: =IF($B11="","",IFERROR(VLOOKUP($B11,'Cartera'!$A$5:$AC$104,25,FALSE),'Proyección 5 años'!$E$4)) | I11: =IF($B11="","",$G11*$H11) | J11: =IF($B11="","",IFERROR(VLOOKUP($B11,'Cartera'!$A$5:$AC$104,22,FALSE)*12,0)) | K11: =IF($B11="","",IFERROR(VLOOKUP($B11,'Cartera'!$A$5:$AC$104,23,FALSE),0)) | L11: =IF($B11="","",IFERROR(VLOOKUP($B11,'Cartera'!$A$5:$AC$104,24,FALSE),0)) | M11: =IF($B11="","",$I11*'Proyección 5 años'!$E$3) | N11: =IF($B11="","",$I11*'Proyección 5 años'!$B$4) | O11: =IF($B11="","",SUM($J11:$N11)) | P11: =IF($B11="","",IFERROR(VLOOKUP($B11,'Cartera'!$A$5:$AC$104,15,FALSE)*VLOOKUP($B11,'Cartera'!$A$5:$AC$104,17,FALSE),0)) | Q11: =IF($B11="","",$D11*'Proyección 5 años'!$E$5) | R11: =IF($B11="","",$I11-SUM($J11:$N11,$P11:$Q11)) | S11: =IF($B11="","",IF($R11>0,$R11*'Proyección 5 años'!$B$5,0)) | T11: =IF($B11="","",$R11-$S11) | U11: =IF($B11="","",MAX(0,IFERROR(VLOOKUP($B11,'Cartera'!$A$5:$AC$104,15,FALSE)-($A11-2026+1)*VLOOKUP($B11,'Cartera'!$A$5:$AC$104,19,FALSE)*12*0.55,0))) | V11: =IF($B11="","",$D11*(1+'Proyección 5 años'!$B$3)^($A11-2026)) | W11: =IF($B11="","",'Proyección 5 años'!$B$3) | X11: =IF($B11="","",$V11-$U11) | Y11: =IF($B11="","",IFERROR($T11/$D11,0))
A12: 2028 | B12: ACT-001 | C12: =IF($B12="","",IFERROR(VLOOKUP($B12,'Cartera'!$A$5:$AC$104,5,FALSE),"")) | D12: =IF($B12="","",IFERROR(VLOOKUP($B12,'Cartera'!$A$5:$AC$104,14,FALSE),0)) | E12: =IF($B12="","",IFERROR(VLOOKUP($B12,'Cartera'!$A$5:$AC$104,20,FALSE)*(1+$F12)^($A12-2026),0)) | F12: =IF($B12="","",IFERROR(VLOOKUP($B12,'Cartera'!$A$5:$AC$104,21,FALSE),0)) | G12: =IF($B12="","",$E12*12) | H12: =IF($B12="","",IFERROR(VLOOKUP($B12,'Cartera'!$A$5:$AC$104,25,FALSE),'Proyección 5 años'!$E$4)) | I12: =IF($B12="","",$G12*$H12) | J12: =IF($B12="","",IFERROR(VLOOKUP($B12,'Cartera'!$A$5:$AC$104,22,FALSE)*12,0)) | K12: =IF($B12="","",IFERROR(VLOOKUP($B12,'Cartera'!$A$5:$AC$104,23,FALSE),0)) | L12: =IF($B12="","",IFERROR(VLOOKUP($B12,'Cartera'!$A$5:$AC$104,24,FALSE),0)) | M12: =IF($B12="","",$I12*'Proyección 5 años'!$E$3) | N12: =IF($B12="","",$I12*'Proyección 5 años'!$B$4) | O12: =IF($B12="","",SUM($J12:$N12)) | P12: =IF($B12="","",IFERROR(VLOOKUP($B12,'Cartera'!$A$5:$AC$104,15,FALSE)*VLOOKUP($B12,'Cartera'!$A$5:$AC$104,17,FALSE),0)) | Q12: =IF($B12="","",$D12*'Proyección 5 años'!$E$5) | R12: =IF($B12="","",$I12-SUM($J12:$N12,$P12:$Q12)) | S12: =IF($B12="","",IF($R12>0,$R12*'Proyección 5 años'!$B$5,0)) | T12: =IF($B12="","",$R12-$S12) | U12: =IF($B12="","",MAX(0,IFERROR(VLOOKUP($B12,'Cartera'!$A$5:$AC$104,15,FALSE)-($A12-2026+1)*VLOOKUP($B12,'Cartera'!$A$5:$AC$104,19,FALSE)*12*0.55,0))) | V12: =IF($B12="","",$D12*(1+'Proyección 5 años'!$B$3)^($A12-2026)) | W12: =IF($B12="","",'Proyección 5 años'!$B$3) | X12: =IF($B12="","",$V12-$U12) | Y12: =IF($B12="","",IFERROR($T12/$D12,0))
A13: 2029 | B13: ACT-001 | C13: =IF($B13="","",IFERROR(VLOOKUP($B13,'Cartera'!$A$5:$AC$104,5,FALSE),"")) | D13: =IF($B13="","",IFERROR(VLOOKUP($B13,'Cartera'!$A$5:$AC$104,14,FALSE),0)) | E13: =IF($B13="","",IFERROR(VLOOKUP($B13,'Cartera'!$A$5:$AC$104,20,FALSE)*(1+$F13)^($A13-2026),0)) | F13: =IF($B13="","",IFERROR(VLOOKUP($B13,'Cartera'!$A$5:$AC$104,21,FALSE),0)) | G13: =IF($B13="","",$E13*12) | H13: =IF($B13="","",IFERROR(VLOOKUP($B13,'Cartera'!$A$5:$AC$104,25,FALSE),'Proyección 5 años'!$E$4)) | I13: =IF($B13="","",$G13*$H13) | J13: =IF($B13="","",IFERROR(VLOOKUP($B13,'Cartera'!$A$5:$AC$104,22,FALSE)*12,0)) | K13: =IF($B13="","",IFERROR(VLOOKUP($B13,'Cartera'!$A$5:$AC$104,23,FALSE),0)) | L13: =IF($B13="","",IFERROR(VLOOKUP($B13,'Cartera'!$A$5:$AC$104,24,FALSE),0)) | M13: =IF($B13="","",$I13*'Proyección 5 años'!$E$3) | N13: =IF($B13="","",$I13*'Proyección 5 años'!$B$4) | O13: =IF($B13="","",SUM($J13:$N13)) | P13: =IF($B13="","",IFERROR(VLOOKUP($B13,'Cartera'!$A$5:$AC$104,15,FALSE)*VLOOKUP($B13,'Cartera'!$A$5:$AC$104,17,FALSE),0)) | Q13: =IF($B13="","",$D13*'Proyección 5 años'!$E$5) | R13: =IF($B13="","",$I13-SUM($J13:$N13,$P13:$Q13)) | S13: =IF($B13="","",IF($R13>0,$R13*'Proyección 5 años'!$B$5,0)) | T13: =IF($B13="","",$R13-$S13) | U13: =IF($B13="","",MAX(0,IFERROR(VLOOKUP($B13,'Cartera'!$A$5:$AC$104,15,FALSE)-($A13-2026+1)*VLOOKUP($B13,'Cartera'!$A$5:$AC$104,19,FALSE)*12*0.55,0))) | V13: =IF($B13="","",$D13*(1+'Proyección 5 años'!$B$3)^($A13-2026)) | W13: =IF($B13="","",'Proyección 5 años'!$B$3) | X13: =IF($B13="","",$V13-$U13) | Y13: =IF($B13="","",IFERROR($T13/$D13,0))
A14: 2030 | B14: ACT-001 | C14: =IF($B14="","",IFERROR(VLOOKUP($B14,'Cartera'!$A$5:$AC$104,5,FALSE),"")) | D14: =IF($B14="","",IFERROR(VLOOKUP($B14,'Cartera'!$A$5:$AC$104,14,FALSE),0)) | E14: =IF($B14="","",IFERROR(VLOOKUP($B14,'Cartera'!$A$5:$AC$104,20,FALSE)*(1+$F14)^($A14-2026),0)) | F14: =IF($B14="","",IFERROR(VLOOKUP($B14,'Cartera'!$A$5:$AC$104,21,FALSE),0)) | G14: =IF($B14="","",$E14*12) | H14: =IF($B14="","",IFERROR(VLOOKUP($B14,'Cartera'!$A$5:$AC$104,25,FALSE),'Proyección 5 años'!$E$4)) | I14: =IF($B14="","",$G14*$H14) | J14: =IF($B14="","",IFERROR(VLOOKUP($B14,'Cartera'!$A$5:$AC$104,22,FALSE)*12,0)) | K14: =IF($B14="","",IFERROR(VLOOKUP($B14,'Cartera'!$A$5:$AC$104,23,FALSE),0)) | L14: =IF($B14="","",IFERROR(VLOOKUP($B14,'Cartera'!$A$5:$AC$104,24,FALSE),0)) | M14: =IF($B14="","",$I14*'Proyección 5 años'!$E$3) | N14: =IF($B14="","",$I14*'Proyección 5 años'!$B$4) | O14: =IF($B14="","",SUM($J14:$N14)) | P14: =IF($B14="","",IFERROR(VLOOKUP($B14,'Cartera'!$A$5:$AC$104,15,FALSE)*VLOOKUP($B14,'Cartera'!$A$5:$AC$104,17,FALSE),0)) | Q14: =IF($B14="","",$D14*'Proyección 5 años'!$E$5) | R14: =IF($B14="","",$I14-SUM($J14:$N14,$P14:$Q14)) | S14: =IF($B14="","",IF($R14>0,$R14*'Proyección 5 años'!$B$5,0)) | T14: =IF($B14="","",$R14-$S14) | U14: =IF($B14="","",MAX(0,IFERROR(VLOOKUP($B14,'Cartera'!$A$5:$AC$104,15,FALSE)-($A14-2026+1)*VLOOKUP($B14,'Cartera'!$A$5:$AC$104,19,FALSE)*12*0.55,0))) | V14: =IF($B14="","",$D14*(1+'Proyección 5 años'!$B$3)^($A14-2026)) | W14: =IF($B14="","",'Proyección 5 años'!$B$3) | X14: =IF($B14="","",$V14-$U14) | Y14: =IF($B14="","",IFERROR($T14/$D14,0))
A15: 2026 | B15: ACT-002 | C15: =IF($B15="","",IFERROR(VLOOKUP($B15,'Cartera'!$A$5:$AC$104,5,FALSE),"")) | D15: =IF($B15="","",IFERROR(VLOOKUP($B15,'Cartera'!$A$5:$AC$104,14,FALSE),0)) | E15: =IF($B15="","",IFERROR(VLOOKUP($B15,'Cartera'!$A$5:$AC$104,20,FALSE)*(1+$F15)^($A15-2026),0)) | F15: =IF($B15="","",IFERROR(VLOOKUP($B15,'Cartera'!$A$5:$AC$104,21,FALSE),0)) | G15: =IF($B15="","",$E15*12) | H15: =IF($B15="","",IFERROR(VLOOKUP($B15,'Cartera'!$A$5:$AC$104,25,FALSE),'Proyección 5 años'!$E$4)) | I15: =IF($B15="","",$G15*$H15) | J15: =IF($B15="","",IFERROR(VLOOKUP($B15,'Cartera'!$A$5:$AC$104,22,FALSE)*12,0)) | K15: =IF($B15="","",IFERROR(VLOOKUP($B15,'Cartera'!$A$5:$AC$104,23,FALSE),0)) | L15: =IF($B15="","",IFERROR(VLOOKUP($B15,'Cartera'!$A$5:$AC$104,24,FALSE),0)) | M15: =IF($B15="","",$I15*'Proyección 5 años'!$E$3) | N15: =IF($B15="","",$I15*'Proyección 5 años'!$B$4) | O15: =IF($B15="","",SUM($J15:$N15)) | P15: =IF($B15="","",IFERROR(VLOOKUP($B15,'Cartera'!$A$5:$AC$104,15,FALSE)*VLOOKUP($B15,'Cartera'!$A$5:$AC$104,17,FALSE),0)) | Q15: =IF($B15="","",$D15*'Proyección 5 años'!$E$5) | R15: =IF($B15="","",$I15-SUM($J15:$N15,$P15:$Q15)) | S15: =IF($B15="","",IF($R15>0,$R15*'Proyección 5 años'!$B$5,0)) | T15: =IF($B15="","",$R15-$S15) | U15: =IF($B15="","",MAX(0,IFERROR(VLOOKUP($B15,'Cartera'!$A$5:$AC$104,15,FALSE)-($A15-2026+1)*VLOOKUP($B15,'Cartera'!$A$5:$AC$104,19,FALSE)*12*0.55,0))) | V15: =IF($B15="","",$D15*(1+'Proyección 5 años'!$B$3)^($A15-2026)) | W15: =IF($B15="","",'Proyección 5 años'!$B$3) | X15: =IF($B15="","",$V15-$U15) | Y15: =IF($B15="","",IFERROR($T15/$D15,0))
A16: 2027 | B16: ACT-002 | C16: =IF($B16="","",IFERROR(VLOOKUP($B16,'Cartera'!$A$5:$AC$104,5,FALSE),"")) | D16: =IF($B16="","",IFERROR(VLOOKUP($B16,'Cartera'!$A$5:$AC$104,14,FALSE),0)) | E16: =IF($B16="","",IFERROR(VLOOKUP($B16,'Cartera'!$A$5:$AC$104,20,FALSE)*(1+$F16)^($A16-2026),0)) | F16: =IF($B16="","",IFERROR(VLOOKUP($B16,'Cartera'!$A$5:$AC$104,21,FALSE),0)) | G16: =IF($B16="","",$E16*12) | H16: =IF($B16="","",IFERROR(VLOOKUP($B16,'Cartera'!$A$5:$AC$104,25,FALSE),'Proyección 5 años'!$E$4)) | I16: =IF($B16="","",$G16*$H16) | J16: =IF($B16="","",IFERROR(VLOOKUP($B16,'Cartera'!$A$5:$AC$104,22,FALSE)*12,0)) | K16: =IF($B16="","",IFERROR(VLOOKUP($B16,'Cartera'!$A$5:$AC$104,23,FALSE),0)) | L16: =IF($B16="","",IFERROR(VLOOKUP($B16,'Cartera'!$A$5:$AC$104,24,FALSE),0)) | M16: =IF($B16="","",$I16*'Proyección 5 años'!$E$3) | N16: =IF($B16="","",$I16*'Proyección 5 años'!$B$4) | O16: =IF($B16="","",SUM($J16:$N16)) | P16: =IF($B16="","",IFERROR(VLOOKUP($B16,'Cartera'!$A$5:$AC$104,15,FALSE)*VLOOKUP($B16,'Cartera'!$A$5:$AC$104,17,FALSE),0)) | Q16: =IF($B16="","",$D16*'Proyección 5 años'!$E$5) | R16: =IF($B16="","",$I16-SUM($J16:$N16,$P16:$Q16)) | S16: =IF($B16="","",IF($R16>0,$R16*'Proyección 5 años'!$B$5,0)) | T16: =IF($B16="","",$R16-$S16) | U16: =IF($B16="","",MAX(0,IFERROR(VLOOKUP($B16,'Cartera'!$A$5:$AC$104,15,FALSE)-($A16-2026+1)*VLOOKUP($B16,'Cartera'!$A$5:$AC$104,19,FALSE)*12*0.55,0))) | V16: =IF($B16="","",$D16*(1+'Proyección 5 años'!$B$3)^($A16-2026)) | W16: =IF($B16="","",'Proyección 5 años'!$B$3) | X16: =IF($B16="","",$V16-$U16) | Y16: =IF($B16="","",IFERROR($T16/$D16,0))
A17: 2028 | B17: ACT-002 | C17: =IF($B17="","",IFERROR(VLOOKUP($B17,'Cartera'!$A$5:$AC$104,5,FALSE),"")) | D17: =IF($B17="","",IFERROR(VLOOKUP($B17,'Cartera'!$A$5:$AC$104,14,FALSE),0)) | E17: =IF($B17="","",IFERROR(VLOOKUP($B17,'Cartera'!$A$5:$AC$104,20,FALSE)*(1+$F17)^($A17-2026),0)) | F17: =IF($B17="","",IFERROR(VLOOKUP($B17,'Cartera'!$A$5:$AC$104,21,FALSE),0)) | G17: =IF($B17="","",$E17*12) | H17: =IF($B17="","",IFERROR(VLOOKUP($B17,'Cartera'!$A$5:$AC$104,25,FALSE),'Proyección 5 años'!$E$4)) | I17: =IF($B17="","",$G17*$H17) | J17: =IF($B17="","",IFERROR(VLOOKUP($B17,'Cartera'!$A$5:$AC$104,22,FALSE)*12,0)) | K17: =IF($B17="","",IFERROR(VLOOKUP($B17,'Cartera'!$A$5:$AC$104,23,FALSE),0)) | L17: =IF($B17="","",IFERROR(VLOOKUP($B17,'Cartera'!$A$5:$AC$104,24,FALSE),0)) | M17: =IF($B17="","",$I17*'Proyección 5 años'!$E$3) | N17: =IF($B17="","",$I17*'Proyección 5 años'!$B$4) | O17: =IF($B17="","",SUM($J17:$N17)) | P17: =IF($B17="","",IFERROR(VLOOKUP($B17,'Cartera'!$A$5:$AC$104,15,FALSE)*VLOOKUP($B17,'Cartera'!$A$5:$AC$104,17,FALSE),0)) | Q17: =IF($B17="","",$D17*'Proyección 5 años'!$E$5) | R17: =IF($B17="","",$I17-SUM($J17:$N17,$P17:$Q17)) | S17: =IF($B17="","",IF($R17>0,$R17*'Proyección 5 años'!$B$5,0)) | T17: =IF($B17="","",$R17-$S17) | U17: =IF($B17="","",MAX(0,IFERROR(VLOOKUP($B17,'Cartera'!$A$5:$AC$104,15,FALSE)-($A17-2026+1)*VLOOKUP($B17,'Cartera'!$A$5:$AC$104,19,FALSE)*12*0.55,0))) | V17: =IF($B17="","",$D17*(1+'Proyección 5 años'!$B$3)^($A17-2026)) | W17: =IF($B17="","",'Proyección 5 años'!$B$3) | X17: =IF($B17="","",$V17-$U17) | Y17: =IF($B17="","",IFERROR($T17/$D17,0))
A18: 2029 | B18: ACT-002 | C18: =IF($B18="","",IFERROR(VLOOKUP($B18,'Cartera'!$A$5:$AC$104,5,FALSE),"")) | D18: =IF($B18="","",IFERROR(VLOOKUP($B18,'Cartera'!$A$5:$AC$104,14,FALSE),0)) | E18: =IF($B18="","",IFERROR(VLOOKUP($B18,'Cartera'!$A$5:$AC$104,20,FALSE)*(1+$F18)^($A18-2026),0)) | F18: =IF($B18="","",IFERROR(VLOOKUP($B18,'Cartera'!$A$5:$AC$104,21,FALSE),0)) | G18: =IF($B18="","",$E18*12) | H18: =IF($B18="","",IFERROR(VLOOKUP($B18,'Cartera'!$A$5:$AC$104,25,FALSE),'Proyección 5 años'!$E$4)) | I18: =IF($B18="","",$G18*$H18) | J18: =IF($B18="","",IFERROR(VLOOKUP($B18,'Cartera'!$A$5:$AC$104,22,FALSE)*12,0)) | K18: =IF($B18="","",IFERROR(VLOOKUP($B18,'Cartera'!$A$5:$AC$104,23,FALSE),0)) | L18: =IF($B18="","",IFERROR(VLOOKUP($B18,'Cartera'!$A$5:$AC$104,24,FALSE),0)) | M18: =IF($B18="","",$I18*'Proyección 5 años'!$E$3) | N18: =IF($B18="","",$I18*'Proyección 5 años'!$B$4) | O18: =IF($B18="","",SUM($J18:$N18)) | P18: =IF($B18="","",IFERROR(VLOOKUP($B18,'Cartera'!$A$5:$AC$104,15,FALSE)*VLOOKUP($B18,'Cartera'!$A$5:$AC$104,17,FALSE),0)) | Q18: =IF($B18="","",$D18*'Proyección 5 años'!$E$5) | R18: =IF($B18="","",$I18-SUM($J18:$N18,$P18:$Q18)) | S18: =IF($B18="","",IF($R18>0,$R18*'Proyección 5 años'!$B$5,0)) | T18: =IF($B18="","",$R18-$S18) | U18: =IF($B18="","",MAX(0,IFERROR(VLOOKUP($B18,'Cartera'!$A$5:$AC$104,15,FALSE)-($A18-2026+1)*VLOOKUP($B18,'Cartera'!$A$5:$AC$104,19,FALSE)*12*0.55,0))) | V18: =IF($B18="","",$D18*(1+'Proyección 5 años'!$B$3)^($A18-2026)) | W18: =IF($B18="","",'Proyección 5 años'!$B$3) | X18: =IF($B18="","",$V18-$U18) | Y18: =IF($B18="","",IFERROR($T18/$D18,0))
A19: 2030 | B19: ACT-002 | C19: =IF($B19="","",IFERROR(VLOOKUP($B19,'Cartera'!$A$5:$AC$104,5,FALSE),"")) | D19: =IF($B19="","",IFERROR(VLOOKUP($B19,'Cartera'!$A$5:$AC$104,14,FALSE),0)) | E19: =IF($B19="","",IFERROR(VLOOKUP($B19,'Cartera'!$A$5:$AC$104,20,FALSE)*(1+$F19)^($A19-2026),0)) | F19: =IF($B19="","",IFERROR(VLOOKUP($B19,'Cartera'!$A$5:$AC$104,21,FALSE),0)) | G19: =IF($B19="","",$E19*12) | H19: =IF($B19="","",IFERROR(VLOOKUP($B19,'Cartera'!$A$5:$AC$104,25,FALSE),'Proyección 5 años'!$E$4)) | I19: =IF($B19="","",$G19*$H19) | J19: =IF($B19="","",IFERROR(VLOOKUP($B19,'Cartera'!$A$5:$AC$104,22,FALSE)*12,0)) | K19: =IF($B19="","",IFERROR(VLOOKUP($B19,'Cartera'!$A$5:$AC$104,23,FALSE),0)) | L19: =IF($B19="","",IFERROR(VLOOKUP($B19,'Cartera'!$A$5:$AC$104,24,FALSE),0)) | M19: =IF($B19="","",$I19*'Proyección 5 años'!$E$3) | N19: =IF($B19="","",$I19*'Proyección 5 años'!$B$4) | O19: =IF($B19="","",SUM($J19:$N19)) | P19: =IF($B19="","",IFERROR(VLOOKUP($B19,'Cartera'!$A$5:$AC$104,15,FALSE)*VLOOKUP($B19,'Cartera'!$A$5:$AC$104,17,FALSE),0)) | Q19: =IF($B19="","",$D19*'Proyección 5 años'!$E$5) | R19: =IF($B19="","",$I19-SUM($J19:$N19,$P19:$Q19)) | S19: =IF($B19="","",IF($R19>0,$R19*'Proyección 5 años'!$B$5,0)) | T19: =IF($B19="","",$R19-$S19) | U19: =IF($B19="","",MAX(0,IFERROR(VLOOKUP($B19,'Cartera'!$A$5:$AC$104,15,FALSE)-($A19-2026+1)*VLOOKUP($B19,'Cartera'!$A$5:$AC$104,19,FALSE)*12*0.55,0))) | V19: =IF($B19="","",$D19*(1+'Proyección 5 años'!$B$3)^($A19-2026)) | W19: =IF($B19="","",'Proyección 5 años'!$B$3) | X19: =IF($B19="","",$V19-$U19) | Y19: =IF($B19="","",IFERROR($T19/$D19,0))
A20: 2026 | B20: ACT-003 | C20: =IF($B20="","",IFERROR(VLOOKUP($B20,'Cartera'!$A$5:$AC$104,5,FALSE),"")) | D20: =IF($B20="","",IFERROR(VLOOKUP($B20,'Cartera'!$A$5:$AC$104,14,FALSE),0)) | E20: =IF($B20="","",IFERROR(VLOOKUP($B20,'Cartera'!$A$5:$AC$104,20,FALSE)*(1+$F20)^($A20-2026),0)) | F20: =IF($B20="","",IFERROR(VLOOKUP($B20,'Cartera'!$A$5:$AC$104,21,FALSE),0)) | G20: =IF($B20="","",$E20*12) | H20: =IF($B20="","",IFERROR(VLOOKUP($B20,'Cartera'!$A$5:$AC$104,25,FALSE),'Proyección 5 años'!$E$4)) | I20: =IF($B20="","",$G20*$H20) | J20: =IF($B20="","",IFERROR(VLOOKUP($B20,'Cartera'!$A$5:$AC$104,22,FALSE)*12,0)) | K20: =IF($B20="","",IFERROR(VLOOKUP($B20,'Cartera'!$A$5:$AC$104,23,FALSE),0)) | L20: =IF($B20="","",IFERROR(VLOOKUP($B20,'Cartera'!$A$5:$AC$104,24,FALSE),0)) | M20: =IF($B20="","",$I20*'Proyección 5 años'!$E$3) | N20: =IF($B20="","",$I20*'Proyección 5 años'!$B$4) | O20: =IF($B20="","",SUM($J20:$N20)) | P20: =IF($B20="","",IFERROR(VLOOKUP($B20,'Cartera'!$A$5:$AC$104,15,FALSE)*VLOOKUP($B20,'Cartera'!$A$5:$AC$104,17,FALSE),0)) | Q20: =IF($B20="","",$D20*'Proyección 5 años'!$E$5) | R20: =IF($B20="","",$I20-SUM($J20:$N20,$P20:$Q20)) | S20: =IF($B20="","",IF($R20>0,$R20*'Proyección 5 años'!$B$5,0)) | T20: =IF($B20="","",$R20-$S20) | U20: =IF($B20="","",MAX(0,IFERROR(VLOOKUP($B20,'Cartera'!$A$5:$AC$104,15,FALSE)-($A20-2026+1)*VLOOKUP($B20,'Cartera'!$A$5:$AC$104,19,FALSE)*12*0.55,0))) | V20: =IF($B20="","",$D20*(1+'Proyección 5 años'!$B$3)^($A20-2026)) | W20: =IF($B20="","",'Proyección 5 años'!$B$3) | X20: =IF($B20="","",$V20-$U20) | Y20: =IF($B20="","",IFERROR($T20/$D20,0))
A21: 2027 | B21: ACT-003 | C21: =IF($B21="","",IFERROR(VLOOKUP($B21,'Cartera'!$A$5:$AC$104,5,FALSE),"")) | D21: =IF($B21="","",IFERROR(VLOOKUP($B21,'Cartera'!$A$5:$AC$104,14,FALSE),0)) | E21: =IF($B21="","",IFERROR(VLOOKUP($B21,'Cartera'!$A$5:$AC$104,20,FALSE)*(1+$F21)^($A21-2026),0)) | F21: =IF($B21="","",IFERROR(VLOOKUP($B21,'Cartera'!$A$5:$AC$104,21,FALSE),0)) | G21: =IF($B21="","",$E21*12) | H21: =IF($B21="","",IFERROR(VLOOKUP($B21,'Cartera'!$A$5:$AC$104,25,FALSE),'Proyección 5 años'!$E$4)) | I21: =IF($B21="","",$G21*$H21) | J21: =IF($B21="","",IFERROR(VLOOKUP($B21,'Cartera'!$A$5:$AC$104,22,FALSE)*12,0)) | K21: =IF($B21="","",IFERROR(VLOOKUP($B21,'Cartera'!$A$5:$AC$104,23,FALSE),0)) | L21: =IF($B21="","",IFERROR(VLOOKUP($B21,'Cartera'!$A$5:$AC$104,24,FALSE),0)) | M21: =IF($B21="","",$I21*'Proyección 5 años'!$E$3) | N21: =IF($B21="","",$I21*'Proyección 5 años'!$B$4) | O21: =IF($B21="","",SUM($J21:$N21)) | P21: =IF($B21="","",IFERROR(VLOOKUP($B21,'Cartera'!$A$5:$AC$104,15,FALSE)*VLOOKUP($B21,'Cartera'!$A$5:$AC$104,17,FALSE),0)) | Q21: =IF($B21="","",$D21*'Proyección 5 años'!$E$5) | R21: =IF($B21="","",$I21-SUM($J21:$N21,$P21:$Q21)) | S21: =IF($B21="","",IF($R21>0,$R21*'Proyección 5 años'!$B$5,0)) | T21: =IF($B21="","",$R21-$S21) | U21: =IF($B21="","",MAX(0,IFERROR(VLOOKUP($B21,'Cartera'!$A$5:$AC$104,15,FALSE)-($A21-2026+1)*VLOOKUP($B21,'Cartera'!$A$5:$AC$104,19,FALSE)*12*0.55,0))) | V21: =IF($B21="","",$D21*(1+'Proyección 5 años'!$B$3)^($A21-2026)) | W21: =IF($B21="","",'Proyección 5 años'!$B$3) | X21: =IF($B21="","",$V21-$U21) | Y21: =IF($B21="","",IFERROR($T21/$D21,0))
... A54: 2030 | B54: ACT-009 | C54: =IF($B54="","",IFERROR(VLOOKUP($B54,'Cartera'!$A$5:$AC$104,5,FALSE),"")) | D54: =IF($B54="","",IFERROR(VLOOKUP($B54,'Cartera'!$A$5:$AC$104,14,FALSE),0)) | E54: =IF($B54="","",IFERROR(VLOOKUP($B54,'Cartera'!$A$5:$AC$104,20,FALSE)*(1+$F54)^($A54-2026),0)) | F54: =IF($B54="","",IFERROR(VLOOKUP($B54,'Cartera'!$A$5:$AC$104,21,FALSE),0)) | G54: =IF($B54="","",$E54*12) | H54: =IF($B54="","",IFERROR(VLOOKUP($B54,'Cartera'!$A$5:$AC$104,25,FALSE),'Proyección 5 años'!$E$4)) | I54: =IF($B54="","",$G54*$H54) | J54: =IF($B54="","",IFERROR(VLOOKUP($B54,'Cartera'!$A$5:$AC$104,22,FALSE)*12,0)) | K54: =IF($B54="","",IFERROR(VLOOKUP($B54,'Cartera'!$A$5:$AC$104,23,FALSE),0)) | L54: =IF($B54="","",IFERROR(VLOOKUP($B54,'Cartera'!$A$5:$AC$104,24,FALSE),0)) | M54: =IF($B54="","",$I54*'Proyección 5 años'!$E$3) | N54: =IF($B54="","",$I54*'Proyección 5 años'!$B$4) | O54: =IF($B54="","",SUM($J54:$N54)) | P54: =IF($B54="","",IFERROR(VLOOKUP($B54,'Cartera'!$A$5:$AC$104,15,FALSE)*VLOOKUP($B54,'Cartera'!$A$5:$AC$104,17,FALSE),0)) | Q54: =IF($B54="","",$D54*'Proyección 5 años'!$E$5) | R54: =IF($B54="","",$I54-SUM($J54:$N54,$P54:$Q54)) | S54: =IF($B54="","",IF($R54>0,$R54*'Proyección 5 años'!$B$5,0)) | T54: =IF($B54="","",$R54-$S54) | U54: =IF($B54="","",MAX(0,IFERROR(VLOOKUP($B54,'Cartera'!$A$5:$AC$104,15,FALSE)-($A54-2026+1)*VLOOKUP($B54,'Cartera'!$A$5:$AC$104,19,FALSE)*12*0.55,0))) | V54: =IF($B54="","",$D54*(1+'Proyección 5 años'!$B$3)^($A54-2026)) | W54: =IF($B54="","",'Proyección 5 años'!$B$3) | X54: =IF($B54="","",$V54-$U54) | Y54: =IF($B54="","",IFERROR($T54/$D54,0))
C55: =IF($B55="","",IFERROR(VLOOKUP($B55,'Cartera'!$A$5:$AC$104,5,FALSE),"")) | D55: =IF($B55="","",IFERROR(VLOOKUP($B55,'Cartera'!$A$5:$AC$104,14,FALSE),0)) | E55: =IF($B55="","",IFERROR(VLOOKUP($B55,'Cartera'!$A$5:$AC$104,20,FALSE)*(1+$F55)^($A55-2026),0)) | F55: =IF($B55="","",IFERROR(VLOOKUP($B55,'Cartera'!$A$5:$AC$104,21,FALSE),0)) | G55: =IF($B55="","",$E55*12) | H55: =IF($B55="","",IFERROR(VLOOKUP($B55,'Cartera'!$A$5:$AC$104,25,FALSE),'Proyección 5 años'!$E$4)) | I55: =IF($B55="","",$G55*$H55) | J55: =IF($B55="","",IFERROR(VLOOKUP($B55,'Cartera'!$A$5:$AC$104,22,FALSE)*12,0)) | K55: =IF($B55="","",IFERROR(VLOOKUP($B55,'Cartera'!$A$5:$AC$104,23,FALSE),0)) | L55: =IF($B55="","",IFERROR(VLOOKUP($B55,'Cartera'!$A$5:$AC$104,24,FALSE),0)) | M55: =IF($B55="","",$I55*'Proyección 5 años'!$E$3) | N55: =IF($B55="","",$I55*'Proyección 5 años'!$B$4) | O55: =IF($B55="","",SUM($J55:$N55)) | P55: =IF($B55="","",IFERROR(VLOOKUP($B55,'Cartera'!$A$5:$AC$104,15,FALSE)*VLOOKUP($B55,'Cartera'!$A$5:$AC$104,17,FALSE),0)) | Q55: =IF($B55="","",$D55*'Proyección 5 años'!$E$5) | R55: =IF($B55="","",$I55-SUM($J55:$N55,$P55:$Q55)) | S55: =IF($B55="","",IF($R55>0,$R55*'Proyección 5 años'!$B$5,0)) | T55: =IF($B55="","",$R55-$S55) | U55: =IF($B55="","",MAX(0,IFERROR(VLOOKUP($B55,'Cartera'!$A$5:$AC$104,15,FALSE)-($A55-2026+1)*VLOOKUP($B55,'Cartera'!$A$5:$AC$104,19,FALSE)*12*0.55,0))) | V55: =IF($B55="","",$D55*(1+'Proyección 5 años'!$B$3)^($A55-2026)) | W55: =IF($B55="","",'Proyección 5 años'!$B$3) | X55: =IF($B55="","",$V55-$U55) | Y55: =IF($B55="","",IFERROR($T55/$D55,0))
C56: =IF($B56="","",IFERROR(VLOOKUP($B56,'Cartera'!$A$5:$AC$104,5,FALSE),"")) | D56: =IF($B56="","",IFERROR(VLOOKUP($B56,'Cartera'!$A$5:$AC$104,14,FALSE),0)) | E56: =IF($B56="","",IFERROR(VLOOKUP($B56,'Cartera'!$A$5:$AC$104,20,FALSE)*(1+$F56)^($A56-2026),0)) | F56: =IF($B56="","",IFERROR(VLOOKUP($B56,'Cartera'!$A$5:$AC$104,21,FALSE),0)) | G56: =IF($B56="","",$E56*12) | H56: =IF($B56="","",IFERROR(VLOOKUP($B56,'Cartera'!$A$5:$AC$104,25,FALSE),'Proyección 5 años'!$E$4)) | I56: =IF($B56="","",$G56*$H56) | J56: =IF($B56="","",IFERROR(VLOOKUP($B56,'Cartera'!$A$5:$AC$104,22,FALSE)*12,0)) | K56: =IF($B56="","",IFERROR(VLOOKUP($B56,'Cartera'!$A$5:$AC$104,23,FALSE),0)) | L56: =IF($B56="","",IFERROR(VLOOKUP($B56,'Cartera'!$A$5:$AC$104,24,FALSE),0)) | M56: =IF($B56="","",$I56*'Proyección 5 años'!$E$3) | N56: =IF($B56="","",$I56*'Proyección 5 años'!$B$4) | O56: =IF($B56="","",SUM($J56:$N56)) | P56: =IF($B56="","",IFERROR(VLOOKUP($B56,'Cartera'!$A$5:$AC$104,15,FALSE)*VLOOKUP($B56,'Cartera'!$A$5:$AC$104,17,FALSE),0)) | Q56: =IF($B56="","",$D56*'Proyección 5 años'!$E$5) | R56: =IF($B56="","",$I56-SUM($J56:$N56,$P56:$Q56)) | S56: =IF($B56="","",IF($R56>0,$R56*'Proyección 5 años'!$B$5,0)) | T56: =IF($B56="","",$R56-$S56) | U56: =IF($B56="","",MAX(0,IFERROR(VLOOKUP($B56,'Cartera'!$A$5:$AC$104,15,FALSE)-($A56-2026+1)*VLOOKUP($B56,'Cartera'!$A$5:$AC$104,19,FALSE)*12*0.55,0))) | V56: =IF($B56="","",$D56*(1+'Proyección 5 años'!$B$3)^($A56-2026)) | W56: =IF($B56="","",'Proyección 5 años'!$B$3) | X56: =IF($B56="","",$V56-$U56) | Y56: =IF($B56="","",IFERROR($T56/$D56,0))
C57: =IF($B57="","",IFERROR(VLOOKUP($B57,'Cartera'!$A$5:$AC$104,5,FALSE),"")) | D57: =IF($B57="","",IFERROR(VLOOKUP($B57,'Cartera'!$A$5:$AC$104,14,FALSE),0)) | E57: =IF($B57="","",IFERROR(VLOOKUP($B57,'Cartera'!$A$5:$AC$104,20,FALSE)*(1+$F57)^($A57-2026),0)) | F57: =IF($B57="","",IFERROR(VLOOKUP($B57,'Cartera'!$A$5:$AC$104,21,FALSE),0)) | G57: =IF($B57="","",$E57*12) | H57: =IF($B57="","",IFERROR(VLOOKUP($B57,'Cartera'!$A$5:$AC$104,25,FALSE),'Proyección 5 años'!$E$4)) | I57: =IF($B57="","",$G57*$H57) | J57: =IF($B57="","",IFERROR(VLOOKUP($B57,'Cartera'!$A$5:$AC$104,22,FALSE)*12,0)) | K57: =IF($B57="","",IFERROR(VLOOKUP($B57,'Cartera'!$A$5:$AC$104,23,FALSE),0)) | L57: =IF($B57="","",IFERROR(VLOOKUP($B57,'Cartera'!$A$5:$AC$104,24,FALSE),0)) | M57: =IF($B57="","",$I57*'Proyección 5 años'!$E$3) | N57: =IF($B57="","",$I57*'Proyección 5 años'!$B$4) | O57: =IF($B57="","",SUM($J57:$N57)) | P57: =IF($B57="","",IFERROR(VLOOKUP($B57,'Cartera'!$A$5:$AC$104,15,FALSE)*VLOOKUP($B57,'Cartera'!$A$5:$AC$104,17,FALSE),0)) | Q57: =IF($B57="","",$D57*'Proyección 5 años'!$E$5) | R57: =IF($B57="","",$I57-SUM($J57:$N57,$P57:$Q57)) | S57: =IF($B57="","",IF($R57>0,$R57*'Proyección 5 años'!$B$5,0)) | T57: =IF($B57="","",$R57-$S57) | U57: =IF($B57="","",MAX(0,IFERROR(VLOOKUP($B57,'Cartera'!$A$5:$AC$104,15,FALSE)-($A57-2026+1)*VLOOKUP($B57,'Cartera'!$A$5:$AC$104,19,FALSE)*12*0.55,0))) | V57: =IF($B57="","",$D57*(1+'Proyección 5 años'!$B$3)^($A57-2026)) | W57: =IF($B57="","",'Proyección 5 años'!$B$3) | X57: =IF($B57="","",$V57-$U57) | Y57: =IF($B57="","",IFERROR($T57/$D57,0))
C58: =IF($B58="","",IFERROR(VLOOKUP($B58,'Cartera'!$A$5:$AC$104,5,FALSE),"")) | D58: =IF($B58="","",IFERROR(VLOOKUP($B58,'Cartera'!$A$5:$AC$104,14,FALSE),0)) | E58: =IF($B58="","",IFERROR(VLOOKUP($B58,'Cartera'!$A$5:$AC$104,20,FALSE)*(1+$F58)^($A58-2026),0)) | F58: =IF($B58="","",IFERROR(VLOOKUP($B58,'Cartera'!$A$5:$AC$104,21,FALSE),0)) | G58: =IF($B58="","",$E58*12) | H58: =IF($B58="","",IFERROR(VLOOKUP($B58,'Cartera'!$A$5:$AC$104,25,FALSE),'Proyección 5 años'!$E$4)) | I58: =IF($B58="","",$G58*$H58) | J58: =IF($B58="","",IFERROR(VLOOKUP($B58,'Cartera'!$A$5:$AC$104,22,FALSE)*12,0)) | K58: =IF($B58="","",IFERROR(VLOOKUP($B58,'Cartera'!$A$5:$AC$104,23,FALSE),0)) | L58: =IF($B58="","",IFERROR(VLOOKUP($B58,'Cartera'!$A$5:$AC$104,24,FALSE),0)) | M58: =IF($B58="","",$I58*'Proyección 5 años'!$E$3) | N58: =IF($B58="","",$I58*'Proyección 5 años'!$B$4) | O58: =IF($B58="","",SUM($J58:$N58)) | P58: =IF($B58="","",IFERROR(VLOOKUP($B58,'Cartera'!$A$5:$AC$104,15,FALSE)*VLOOKUP($B58,'Cartera'!$A$5:$AC$104,17,FALSE),0)) | Q58: =IF($B58="","",$D58*'Proyección 5 años'!$E$5) | R58: =IF($B58="","",$I58-SUM($J58:$N58,$P58:$Q58)) | S58: =IF($B58="","",IF($R58>0,$R58*'Proyección 5 años'!$B$5,0)) | T58: =IF($B58="","",$R58-$S58) | U58: =IF($B58="","",MAX(0,IFERROR(VLOOKUP($B58,'Cartera'!$A$5:$AC$104,15,FALSE)-($A58-2026+1)*VLOOKUP($B58,'Cartera'!$A$5:$AC$104,19,FALSE)*12*0.55,0))) | V58: =IF($B58="","",$D58*(1+'Proyección 5 años'!$B$3)^($A58-2026)) | W58: =IF($B58="","",'Proyección 5 años'!$B$3) | X58: =IF($B58="","",$V58-$U58) | Y58: =IF($B58="","",IFERROR($T58/$D58,0))
C59: =IF($B59="","",IFERROR(VLOOKUP($B59,'Cartera'!$A$5:$AC$104,5,FALSE),"")) | D59: =IF($B59="","",IFERROR(VLOOKUP($B59,'Cartera'!$A$5:$AC$104,14,FALSE),0)) | E59: =IF($B59="","",IFERROR(VLOOKUP($B59,'Cartera'!$A$5:$AC$104,20,FALSE)*(1+$F59)^($A59-2026),0)) | F59: =IF($B59="","",IFERROR(VLOOKUP($B59,'Cartera'!$A$5:$AC$104,21,FALSE),0)) | G59: =IF($B59="","",$E59*12) | H59: =IF($B59="","",IFERROR(VLOOKUP($B59,'Cartera'!$A$5:$AC$104,25,FALSE),'Proyección 5 años'!$E$4)) | I59: =IF($B59="","",$G59*$H59) | J59: =IF($B59="","",IFERROR(VLOOKUP($B59,'Cartera'!$A$5:$AC$104,22,FALSE)*12,0)) | K59: =IF($B59="","",IFERROR(VLOOKUP($B59,'Cartera'!$A$5:$AC$104,23,FALSE),0)) | L59: =IF($B59="","",IFERROR(VLOOKUP($B59,'Cartera'!$A$5:$AC$104,24,FALSE),0)) | M59: =IF($B59="","",$I59*'Proyección 5 años'!$E$3) | N59: =IF($B59="","",$I59*'Proyección 5 años'!$B$4) | O59: =IF($B59="","",SUM($J59:$N59)) | P59: =IF($B59="","",IFERROR(VLOOKUP($B59,'Cartera'!$A$5:$AC$104,15,FALSE)*VLOOKUP($B59,'Cartera'!$A$5:$AC$104,17,FALSE),0)) | Q59: =IF($B59="","",$D59*'Proyección 5 años'!$E$5) | R59: =IF($B59="","",$I59-SUM($J59:$N59,$P59:$Q59)) | S59: =IF($B59="","",IF($R59>0,$R59*'Proyección 5 años'!$B$5,0)) | T59: =IF($B59="","",$R59-$S59) | U59: =IF($B59="","",MAX(0,IFERROR(VLOOKUP($B59,'Cartera'!$A$5:$AC$104,15,FALSE)-($A59-2026+1)*VLOOKUP($B59,'Cartera'!$A$5:$AC$104,19,FALSE)*12*0.55,0))) | V59: =IF($B59="","",$D59*(1+'Proyección 5 años'!$B$3)^($A59-2026)) | W59: =IF($B59="","",'Proyección 5 años'!$B$3) | X59: =IF($B59="","",$V59-$U59) | Y59: =IF($B59="","",IFERROR($T59/$D59,0))
C60: =IF($B60="","",IFERROR(VLOOKUP($B60,'Cartera'!$A$5:$AC$104,5,FALSE),"")) | D60: =IF($B60="","",IFERROR(VLOOKUP($B60,'Cartera'!$A$5:$AC$104,14,FALSE),0)) | E60: =IF($B60="","",IFERROR(VLOOKUP($B60,'Cartera'!$A$5:$AC$104,20,FALSE)*(1+$F60)^($A60-2026),0)) | F60: =IF($B60="","",IFERROR(VLOOKUP($B60,'Cartera'!$A$5:$AC$104,21,FALSE),0)) | G60: =IF($B60="","",$E60*12) | H60: =IF($B60="","",IFERROR(VLOOKUP($B60,'Cartera'!$A$5:$AC$104,25,FALSE),'Proyección 5 años'!$E$4)) | I60: =IF($B60="","",$G60*$H60) | J60: =IF($B60="","",IFERROR(VLOOKUP($B60,'Cartera'!$A$5:$AC$104,22,FALSE)*12,0)) | K60: =IF($B60="","",IFERROR(VLOOKUP($B60,'Cartera'!$A$5:$AC$104,23,FALSE),0)) | L60: =IF($B60="","",IFERROR(VLOOKUP($B60,'Cartera'!$A$5:$AC$104,24,FALSE),0)) | M60: =IF($B60="","",$I60*'Proyección 5 años'!$E$3) | N60: =IF($B60="","",$I60*'Proyección 5 años'!$B$4) | O60: =IF($B60="","",SUM($J60:$N60)) | P60: =IF($B60="","",IFERROR(VLOOKUP($B60,'Cartera'!$A$5:$AC$104,15,FALSE)*VLOOKUP($B60,'Cartera'!$A$5:$AC$104,17,FALSE),0)) | Q60: =IF($B60="","",$D60*'Proyección 5 años'!$E$5) | R60: =IF($B60="","",$I60-SUM($J60:$N60,$P60:$Q60)) | S60: =IF($B60="","",IF($R60>0,$R60*'Proyección 5 años'!$B$5,0)) | T60: =IF($B60="","",$R60-$S60) | U60: =IF($B60="","",MAX(0,IFERROR(VLOOKUP($B60,'Cartera'!$A$5:$AC$104,15,FALSE)-($A60-2026+1)*VLOOKUP($B60,'Cartera'!$A$5:$AC$104,19,FALSE)*12*0.55,0))) | V60: =IF($B60="","",$D60*(1+'Proyección 5 años'!$B$3)^($A60-2026)) | W60: =IF($B60="","",'Proyección 5 años'!$B$3) | X60: =IF($B60="","",$V60-$U60) | Y60: =IF($B60="","",IFERROR($T60/$D60,0))
C61: =IF($B61="","",IFERROR(VLOOKUP($B61,'Cartera'!$A$5:$AC$104,5,FALSE),"")) | D61: =IF($B61="","",IFERROR(VLOOKUP($B61,'Cartera'!$A$5:$AC$104,14,FALSE),0)) | E61: =IF($B61="","",IFERROR(VLOOKUP($B61,'Cartera'!$A$5:$AC$104,20,FALSE)*(1+$F61)^($A61-2026),0)) | F61: =IF($B61="","",IFERROR(VLOOKUP($B61,'Cartera'!$A$5:$AC$104,21,FALSE),0)) | G61: =IF($B61="","",$E61*12) | H61: =IF($B61="","",IFERROR(VLOOKUP($B61,'Cartera'!$A$5:$AC$104,25,FALSE),'Proyección 5 años'!$E$4)) | I61: =IF($B61="","",$G61*$H61) | J61: =IF($B61="","",IFERROR(VLOOKUP($B61,'Cartera'!$A$5:$AC$104,22,FALSE)*12,0)) | K61: =IF($B61="","",IFERROR(VLOOKUP($B61,'Cartera'!$A$5:$AC$104,23,FALSE),0)) | L61: =IF($B61="","",IFERROR(VLOOKUP($B61,'Cartera'!$A$5:$AC$104,24,FALSE),0)) | M61: =IF($B61="","",$I61*'Proyección 5 años'!$E$3) | N61: =IF($B61="","",$I61*'Proyección 5 años'!$B$4) | O61: =IF($B61="","",SUM($J61:$N61)) | P61: =IF($B61="","",IFERROR(VLOOKUP($B61,'Cartera'!$A$5:$AC$104,15,FALSE)*VLOOKUP($B61,'Cartera'!$A$5:$AC$104,17,FALSE),0)) | Q61: =IF($B61="","",$D61*'Proyección 5 años'!$E$5) | R61: =IF($B61="","",$I61-SUM($J61:$N61,$P61:$Q61)) | S61: =IF($B61="","",IF($R61>0,$R61*'Proyección 5 años'!$B$5,0)) | T61: =IF($B61="","",$R61-$S61) | U61: =IF($B61="","",MAX(0,IFERROR(VLOOKUP($B61,'Cartera'!$A$5:$AC$104,15,FALSE)-($A61-2026+1)*VLOOKUP($B61,'Cartera'!$A$5:$AC$104,19,FALSE)*12*0.55,0))) | V61: =IF($B61="","",$D61*(1+'Proyección 5 años'!$B$3)^($A61-2026)) | W61: =IF($B61="","",'Proyección 5 años'!$B$3) | X61: =IF($B61="","",$V61-$U61) | Y61: =IF($B61="","",IFERROR($T61/$D61,0))
C62: =IF($B62="","",IFERROR(VLOOKUP($B62,'Cartera'!$A$5:$AC$104,5,FALSE),"")) | D62: =IF($B62="","",IFERROR(VLOOKUP($B62,'Cartera'!$A$5:$AC$104,14,FALSE),0)) | E62: =IF($B62="","",IFERROR(VLOOKUP($B62,'Cartera'!$A$5:$AC$104,20,FALSE)*(1+$F62)^($A62-2026),0)) | F62: =IF($B62="","",IFERROR(VLOOKUP($B62,'Cartera'!$A$5:$AC$104,21,FALSE),0)) | G62: =IF($B62="","",$E62*12) | H62: =IF($B62="","",IFERROR(VLOOKUP($B62,'Cartera'!$A$5:$AC$104,25,FALSE),'Proyección 5 años'!$E$4)) | I62: =IF($B62="","",$G62*$H62) | J62: =IF($B62="","",IFERROR(VLOOKUP($B62,'Cartera'!$A$5:$AC$104,22,FALSE)*12,0)) | K62: =IF($B62="","",IFERROR(VLOOKUP($B62,'Cartera'!$A$5:$AC$104,23,FALSE),0)) | L62: =IF($B62="","",IFERROR(VLOOKUP($B62,'Cartera'!$A$5:$AC$104,24,FALSE),0)) | M62: =IF($B62="","",$I62*'Proyección 5 años'!$E$3) | N62: =IF($B62="","",$I62*'Proyección 5 años'!$B$4) | O62: =IF($B62="","",SUM($J62:$N62)) | P62: =IF($B62="","",IFERROR(VLOOKUP($B62,'Cartera'!$A$5:$AC$104,15,FALSE)*VLOOKUP($B62,'Cartera'!$A$5:$AC$104,17,FALSE),0)) | Q62: =IF($B62="","",$D62*'Proyección 5 años'!$E$5) | R62: =IF($B62="","",$I62-SUM($J62:$N62,$P62:$Q62)) | S62: =IF($B62="","",IF($R62>0,$R62*'Proyección 5 años'!$B$5,0)) | T62: =IF($B62="","",$R62-$S62) | U62: =IF($B62="","",MAX(0,IFERROR(VLOOKUP($B62,'Cartera'!$A$5:$AC$104,15,FALSE)-($A62-2026+1)*VLOOKUP($B62,'Cartera'!$A$5:$AC$104,19,FALSE)*12*0.55,0))) | V62: =IF($B62="","",$D62*(1+'Proyección 5 años'!$B$3)^($A62-2026)) | W62: =IF($B62="","",'Proyección 5 años'!$B$3) | X62: =IF($B62="","",$V62-$U62) | Y62: =IF($B62="","",IFERROR($T62/$D62,0))
C63: =IF($B63="","",IFERROR(VLOOKUP($B63,'Cartera'!$A$5:$AC$104,5,FALSE),"")) | D63: =IF($B63="","",IFERROR(VLOOKUP($B63,'Cartera'!$A$5:$AC$104,14,FALSE),0)) | E63: =IF($B63="","",IFERROR(VLOOKUP($B63,'Cartera'!$A$5:$AC$104,20,FALSE)*(1+$F63)^($A63-2026),0)) | F63: =IF($B63="","",IFERROR(VLOOKUP($B63,'Cartera'!$A$5:$AC$104,21,FALSE),0)) | G63: =IF($B63="","",$E63*12) | H63: =IF($B63="","",IFERROR(VLOOKUP($B63,'Cartera'!$A$5:$AC$104,25,FALSE),'Proyección 5 años'!$E$4)) | I63: =IF($B63="","",$G63*$H63) | J63: =IF($B63="","",IFERROR(VLOOKUP($B63,'Cartera'!$A$5:$AC$104,22,FALSE)*12,0)) | K63: =IF($B63="","",IFERROR(VLOOKUP($B63,'Cartera'!$A$5:$AC$104,23,FALSE),0)) | L63: =IF($B63="","",IFERROR(VLOOKUP($B63,'Cartera'!$A$5:$AC$104,24,FALSE),0)) | M63: =IF($B63="","",$I63*'Proyección 5 años'!$E$3) | N63: =IF($B63="","",$I63*'Proyección 5 años'!$B$4) | O63: =IF($B63="","",SUM($J63:$N63)) | P63: =IF($B63="","",IFERROR(VLOOKUP($B63,'Cartera'!$A$5:$AC$104,15,FALSE)*VLOOKUP($B63,'Cartera'!$A$5:$AC$104,17,FALSE),0)) | Q63: =IF($B63="","",$D63*'Proyección 5 años'!$E$5) | R63: =IF($B63="","",$I63-SUM($J63:$N63,$P63:$Q63)) | S63: =IF($B63="","",IF($R63>0,$R63*'Proyección 5 años'!$B$5,0)) | T63: =IF($B63="","",$R63-$S63) | U63: =IF($B63="","",MAX(0,IFERROR(VLOOKUP($B63,'Cartera'!$A$5:$AC$104,15,FALSE)-($A63-2026+1)*VLOOKUP($B63,'Cartera'!$A$5:$AC$104,19,FALSE)*12*0.55,0))) | V63: =IF($B63="","",$D63*(1+'Proyección 5 años'!$B$3)^($A63-2026)) | W63: =IF($B63="","",'Proyección 5 años'!$B$3) | X63: =IF($B63="","",$V63-$U63) | Y63: =IF($B63="","",IFERROR($T63/$D63,0))
C64: =IF($B64="","",IFERROR(VLOOKUP($B64,'Cartera'!$A$5:$AC$104,5,FALSE),"")) | D64: =IF($B64="","",IFERROR(VLOOKUP($B64,'Cartera'!$A$5:$AC$104,14,FALSE),0)) | E64: =IF($B64="","",IFERROR(VLOOKUP($B64,'Cartera'!$A$5:$AC$104,20,FALSE)*(1+$F64)^($A64-2026),0)) | F64: =IF($B64="","",IFERROR(VLOOKUP($B64,'Cartera'!$A$5:$AC$104,21,FALSE),0)) | G64: =IF($B64="","",$E64*12) | H64: =IF($B64="","",IFERROR(VLOOKUP($B64,'Cartera'!$A$5:$AC$104,25,FALSE),'Proyección 5 años'!$E$4)) | I64: =IF($B64="","",$G64*$H64) | J64: =IF($B64="","",IFERROR(VLOOKUP($B64,'Cartera'!$A$5:$AC$104,22,FALSE)*12,0)) | K64: =IF($B64="","",IFERROR(VLOOKUP($B64,'Cartera'!$A$5:$AC$104,23,FALSE),0)) | L64: =IF($B64="","",IFERROR(VLOOKUP($B64,'Cartera'!$A$5:$AC$104,24,FALSE),0)) | M64: =IF($B64="","",$I64*'Proyección 5 años'!$E$3) | N64: =IF($B64="","",$I64*'Proyección 5 años'!$B$4) | O64: =IF($B64="","",SUM($J64:$N64)) | P64: =IF($B64="","",IFERROR(VLOOKUP($B64,'Cartera'!$A$5:$AC$104,15,FALSE)*VLOOKUP($B64,'Cartera'!$A$5:$AC$104,17,FALSE),0)) | Q64: =IF($B64="","",$D64*'Proyección 5 años'!$E$5) | R64: =IF($B64="","",$I64-SUM($J64:$N64,$P64:$Q64)) | S64: =IF($B64="","",IF($R64>0,$R64*'Proyección 5 años'!$B$5,0)) | T64: =IF($B64="","",$R64-$S64) | U64: =IF($B64="","",MAX(0,IFERROR(VLOOKUP($B64,'Cartera'!$A$5:$AC$104,15,FALSE)-($A64-2026+1)*VLOOKUP($B64,'Cartera'!$A$5:$AC$104,19,FALSE)*12*0.55,0))) | V64: =IF($B64="","",$D64*(1+'Proyección 5 años'!$B$3)^($A64-2026)) | W64: =IF($B64="","",'Proyección 5 años'!$B$3) | X64: =IF($B64="","",$V64-$U64) | Y64: =IF($B64="","",IFERROR($T64/$D64,0))
C65: =IF($B65="","",IFERROR(VLOOKUP($B65,'Cartera'!$A$5:$AC$104,5,FALSE),"")) | D65: =IF($B65="","",IFERROR(VLOOKUP($B65,'Cartera'!$A$5:$AC$104,14,FALSE),0)) | E65: =IF($B65="","",IFERROR(VLOOKUP($B65,'Cartera'!$A$5:$AC$104,20,FALSE)*(1+$F65)^($A65-2026),0)) | F65: =IF($B65="","",IFERROR(VLOOKUP($B65,'Cartera'!$A$5:$AC$104,21,FALSE),0)) | G65: =IF($B65="","",$E65*12) | H65: =IF($B65="","",IFERROR(VLOOKUP($B65,'Cartera'!$A$5:$AC$104,25,FALSE),'Proyección 5 años'!$E$4)) | I65: =IF($B65="","",$G65*$H65) | J65: =IF($B65="","",IFERROR(VLOOKUP($B65,'Cartera'!$A$5:$AC$104,22,FALSE)*12,0)) | K65: =IF($B65="","",IFERROR(VLOOKUP($B65,'Cartera'!$A$5:$AC$104,23,FALSE),0)) | L65: =IF($B65="","",IFERROR(VLOOKUP($B65,'Cartera'!$A$5:$AC$104,24,FALSE),0)) | M65: =IF($B65="","",$I65*'Proyección 5 años'!$E$3) | N65: =IF($B65="","",$I65*'Proyección 5 años'!$B$4) | O65: =IF($B65="","",SUM($J65:$N65)) | P65: =IF($B65="","",IFERROR(VLOOKUP($B65,'Cartera'!$A$5:$AC$104,15,FALSE)*VLOOKUP($B65,'Cartera'!$A$5:$AC$104,17,FALSE),0)) | Q65: =IF($B65="","",$D65*'Proyección 5 años'!$E$5) | R65: =IF($B65="","",$I65-SUM($J65:$N65,$P65:$Q65)) | S65: =IF($B65="","",IF($R65>0,$R65*'Proyección 5 años'!$B$5,0)) | T65: =IF($B65="","",$R65-$S65) | U65: =IF($B65="","",MAX(0,IFERROR(VLOOKUP($B65,'Cartera'!$A$5:$AC$104,15,FALSE)-($A65-2026+1)*VLOOKUP($B65,'Cartera'!$A$5:$AC$104,19,FALSE)*12*0.55,0))) | V65: =IF($B65="","",$D65*(1+'Proyección 5 años'!$B$3)^($A65-2026)) | W65: =IF($B65="","",'Proyección 5 años'!$B$3) | X65: =IF($B65="","",$V65-$U65) | Y65: =IF($B65="","",IFERROR($T65/$D65,0))
C66: =IF($B66="","",IFERROR(VLOOKUP($B66,'Cartera'!$A$5:$AC$104,5,FALSE),"")) | D66: =IF($B66="","",IFERROR(VLOOKUP($B66,'Cartera'!$A$5:$AC$104,14,FALSE),0)) | E66: =IF($B66="","",IFERROR(VLOOKUP($B66,'Cartera'!$A$5:$AC$104,20,FALSE)*(1+$F66)^($A66-2026),0)) | F66: =IF($B66="","",IFERROR(VLOOKUP($B66,'Cartera'!$A$5:$AC$104,21,FALSE),0)) | G66: =IF($B66="","",$E66*12) | H66: =IF($B66="","",IFERROR(VLOOKUP($B66,'Cartera'!$A$5:$AC$104,25,FALSE),'Proyección 5 años'!$E$4)) | I66: =IF($B66="","",$G66*$H66) | J66: =IF($B66="","",IFERROR(VLOOKUP($B66,'Cartera'!$A$5:$AC$104,22,FALSE)*12,0)) | K66: =IF($B66="","",IFERROR(VLOOKUP($B66,'Cartera'!$A$5:$AC$104,23,FALSE),0)) | L66: =IF($B66="","",IFERROR(VLOOKUP($B66,'Cartera'!$A$5:$AC$104,24,FALSE),0)) | M66: =IF($B66="","",$I66*'Proyección 5 años'!$E$3) | N66: =IF($B66="","",$I66*'Proyección 5 años'!$B$4) | O66: =IF($B66="","",SUM($J66:$N66)) | P66: =IF($B66="","",IFERROR(VLOOKUP($B66,'Cartera'!$A$5:$AC$104,15,FALSE)*VLOOKUP($B66,'Cartera'!$A$5:$AC$104,17,FALSE),0)) | Q66: =IF($B66="","",$D66*'Proyección 5 años'!$E$5) | R66: =IF($B66="","",$I66-SUM($J66:$N66,$P66:$Q66)) | S66: =IF($B66="","",IF($R66>0,$R66*'Proyección 5 años'!$B$5,0)) | T66: =IF($B66="","",$R66-$S66) | U66: =IF($B66="","",MAX(0,IFERROR(VLOOKUP($B66,'Cartera'!$A$5:$AC$104,15,FALSE)-($A66-2026+1)*VLOOKUP($B66,'Cartera'!$A$5:$AC$104,19,FALSE)*12*0.55,0))) | V66: =IF($B66="","",$D66*(1+'Proyección 5 años'!$B$3)^($A66-2026)) | W66: =IF($B66="","",'Proyección 5 años'!$B$3) | X66: =IF($B66="","",$V66-$U66) | Y66: =IF($B66="","",IFERROR($T66/$D66,0))
... C509: =IF($B509="","",IFERROR(VLOOKUP($B509,'Cartera'!$A$5:$AC$104,5,FALSE),"")) | D509: =IF($B509="","",IFERROR(VLOOKUP($B509,'Cartera'!$A$5:$AC$104,14,FALSE),0)) | E509: =IF($B509="","",IFERROR(VLOOKUP($B509,'Cartera'!$A$5:$AC$104,20,FALSE)*(1+$F509)^($A509-2026),0)) | F509: =IF($B509="","",IFERROR(VLOOKUP($B509,'Cartera'!$A$5:$AC$104,21,FALSE),0)) | G509: =IF($B509="","",$E509*12) | H509: =IF($B509="","",IFERROR(VLOOKUP($B509,'Cartera'!$A$5:$AC$104,25,FALSE),'Proyección 5 años'!$E$4)) | I509: =IF($B509="","",$G509*$H509) | J509: =IF($B509="","",IFERROR(VLOOKUP($B509,'Cartera'!$A$5:$AC$104,22,FALSE)*12,0)) | K509: =IF($B509="","",IFERROR(VLOOKUP($B509,'Cartera'!$A$5:$AC$104,23,FALSE),0)) | L509: =IF($B509="","",IFERROR(VLOOKUP($B509,'Cartera'!$A$5:$AC$104,24,FALSE),0)) | M509: =IF($B509="","",$I509*'Proyección 5 años'!$E$3) | N509: =IF($B509="","",$I509*'Proyección 5 años'!$B$4) | O509: =IF($B509="","",SUM($J509:$N509)) | P509: =IF($B509="","",IFERROR(VLOOKUP($B509,'Cartera'!$A$5:$AC$104,15,FALSE)*VLOOKUP($B509,'Cartera'!$A$5:$AC$104,17,FALSE),0)) | Q509: =IF($B509="","",$D509*'Proyección 5 años'!$E$5) | R509: =IF($B509="","",$I509-SUM($J509:$N509,$P509:$Q509)) | S509: =IF($B509="","",IF($R509>0,$R509*'Proyección 5 años'!$B$5,0)) | T509: =IF($B509="","",$R509-$S509) | U509: =IF($B509="","",MAX(0,IFERROR(VLOOKUP($B509,'Cartera'!$A$5:$AC$104,15,FALSE)-($A509-2026+1)*VLOOKUP($B509,'Cartera'!$A$5:$AC$104,19,FALSE)*12*0.55,0))) | V509: =IF($B509="","",$D509*(1+'Proyección 5 años'!$B$3)^($A509-2026)) | W509: =IF($B509="","",'Proyección 5 años'!$B$3) | X509: =IF($B509="","",$V509-$U509) | Y509: =IF($B509="","",IFERROR($T509/$D509,0))

Sheet Resumen
A1: Resumen ejecutivo · Plan de inversión inmobiliaria 2026-2030
A3: Indicadores clave de la cartera
A4: Inversión total comprometida | B4: =SUM('Cartera'!$N$5:$N$104) | D4: Capital aportado | E4: =SUM('Cartera'!$P$5:$P$104) | G4: Financiación total | H4: =SUM('Cartera'!$O$5:$O$104)
A7: Ingresos acumulados 2026-2030 | B7: =SUM('Proyección 5 años'!$I$10:$I$509) | D7: Flujo de caja acumulado | E7: =SUM('Proyección 5 años'!$T$10:$T$509) | G7: Patrimonio neto estimado en 2030 | H7: =SUMIFS('Proyección 5 años'!$X$10:$X$509,'Proyección 5 años'!$A$10:$A$509,2030)
A10: Rentabilidad media de la cartera | B10: =IFERROR(AVERAGE('Cartera'!$AB$5:$AB$104),0) | D10: Número de activos | E10: =COUNTIF('Cartera'!$A$5:$A$104,"<>") | G10: Flujos de caja negativos | H10: =COUNTIF('Proyección 5 años'!$T$10:$T$509,"<0")
A13: Dirección del primer activo | B13: =IF($E$10>0,IFERROR(VLOOKUP('Cartera'!$A$5,'Cartera'!$A$5:$AC$104,4,FALSE),""),"")
A17: Municipio | B17: Inversión total | D17: Tipo de inmueble | E17: Inversión total | G17: Año | H17: Ingresos efectivos | I17: Gastos anuales | J17: Flujo de caja anual | K17: Flujo de caja acumulado
A18: Madrid | B18: =SUMIF('Cartera'!$E$5:$E$104,$A18,'Cartera'!$N$5:$N$104) | D18: Piso | E18: =SUMIF('Cartera'!$C$5:$C$104,$D18,'Cartera'!$N$5:$N$104) | G18: 2026 | H18: =SUMIF('Proyección 5 años'!$A$10:$A$509,$G18,'Proyección 5 años'!$I$10:$I$509) | I18: =SUMIF('Proyección 5 años'!$A$10:$A$509,$G18,'Proyección 5 años'!$O$10:$O$509)+SUMIF('Proyección 5 años'!$A$10:$A$509,$G18,'Proyección 5 años'!$P$10:$P$509) | J18: =SUMIF('Proyección 5 años'!$A$10:$A$509,$G18,'Proyección 5 años'!$T$10:$T$509) | K18: =SUM($J$18:$J18)
A19: Barcelona | B19: =SUMIF('Cartera'!$E$5:$E$104,$A19,'Cartera'!$N$5:$N$104) | D19: Vivienda | E19: =SUMIF('Cartera'!$C$5:$C$104,$D19,'Cartera'!$N$5:$N$104) | G19: 2027 | H19: =SUMIF('Proyección 5 años'!$A$10:$A$509,$G19,'Proyección 5 años'!$I$10:$I$509) | I19: =SUMIF('Proyección 5 años'!$A$10:$A$509,$G19,'Proyección 5 años'!$O$10:$O$509)+SUMIF('Proyección 5 años'!$A$10:$A$509,$G19,'Proyección 5 años'!$P$10:$P$509) | J19: =SUMIF('Proyección 5 años'!$A$10:$A$509,$G19,'Proyección 5 años'!$T$10:$T$509) | K19: =SUM($J$18:$J19)
A20: Sevilla | B20: =SUMIF('Cartera'!$E$5:$E$104,$A20,'Cartera'!$N$5:$N$104) | D20: Local transformable | E20: =SUMIF('Cartera'!$C$5:$C$104,$D20,'Cartera'!$N$5:$N$104) | G20: 2028 | H20: =SUMIF('Proyección 5 años'!$A$10:$A$509,$G20,'Proyección 5 años'!$I$10:$I$509) | I20: =SUMIF('Proyección 5 años'!$A$10:$A$509,$G20,'Proyección 5 años'!$O$10:$O$509)+SUMIF('Proyección 5 años'!$A$10:$A$509,$G20,'Proyección 5 años'!$P$10:$P$509) | J20: =SUMIF('Proyección 5 años'!$A$10:$A$509,$G20,'Proyección 5 años'!$T$10:$T$509) | K20: =SUM($J$18:$J20)
A21: Valencia | B21: =SUMIF('Cartera'!$E$5:$E$104,$A21,'Cartera'!$N$5:$N$104) | D21: Apartamento | E21: =SUMIF('Cartera'!$C$5:$C$104,$D21,'Cartera'!$N$5:$N$104) | G21: 2029 | H21: =SUMIF('Proyección 5 años'!$A$10:$A$509,$G21,'Proyección 5 años'!$I$10:$I$509) | I21: =SUMIF('Proyección 5 años'!$A$10:$A$509,$G21,'Proyección 5 años'!$O$10:$O$509)+SUMIF('Proyección 5 años'!$A$10:$A$509,$G21,'Proyección 5 años'!$P$10:$P$509) | J21: =SUMIF('Proyección 5 años'!$A$10:$A$509,$G21,'Proyección 5 años'!$T$10:$T$509) | K21: =SUM($J$18:$J21)
A22: Málaga | B22: =SUMIF('Cartera'!$E$5:$E$104,$A22,'Cartera'!$N$5:$N$104) | D22: Chalet adosado | E22: =SUMIF('Cartera'!$C$5:$C$104,$D22,'Cartera'!$N$5:$N$104) | G22: 2030 | H22: =SUMIF('Proyección 5 años'!$A$10:$A$509,$G22,'Proyección 5 años'!$I$10:$I$509) | I22: =SUMIF('Proyección 5 años'!$A$10:$A$509,$G22,'Proyección 5 años'!$O$10:$O$509)+SUMIF('Proyección 5 años'!$A$10:$A$509,$G22,'Proyección 5 años'!$P$10:$P$509) | J22: =SUMIF('Proyección 5 años'!$A$10:$A$509,$G22,'Proyección 5 años'!$T$10:$T$509) | K22: =SUM($J$18:$J22)
A23: Zaragoza | B23: =SUMIF('Cartera'!$E$5:$E$104,$A23,'Cartera'!$N$5:$N$104)
A24: Oviedo | B24: =SUMIF('Cartera'!$E$5:$E$104,$A24,'Cartera'!$N$5:$N$104)
A25: Alicante | B25: =SUMIF('Cartera'!$E$5:$E$104,$A25,'Cartera'!$N$5:$N$104)
A26: Bilbao | B26: =SUMIF('Cartera'!$E$5:$E$104,$A26,'Cartera'!$N$5:$N$104)
A30: Alertas de rentabilidad, ocupación y flujo de caja
A31: ID activo | B31: Municipio | C31: Rentabilidad neta | D31: Ocupación | E31: Flujo de caja anual 2026 | F31: Estado
A32: =IF('Cartera'!$A5="","",'Cartera'!$A5) | B32: =IF($A32="","",IFERROR(VLOOKUP($A32,'Cartera'!$A$5:$AC$104,5,FALSE),"")) | C32: =IF($A32="","",IFERROR(VLOOKUP($A32,'Cartera'!$A$5:$AC$104,28,FALSE),0)) | D32: =IF($A32="","",IFERROR(VLOOKUP($A32,'Cartera'!$A$5:$AC$104,25,FALSE),0)) | E32: =IF($A32="","",SUMIFS('Proyección 5 años'!$T$10:$T$509,'Proyección 5 años'!$B$10:$B$509,$A32,'Proyección 5 años'!$A$10:$A$509,2026)) | F32: =IF($A32="","",IF(OR($C32<0,$D32<0.9,$E32<0),"Revisar","Correcto"))
A33: =IF('Cartera'!$A6="","",'Cartera'!$A6) | B33: =IF($A33="","",IFERROR(VLOOKUP($A33,'Cartera'!$A$5:$AC$104,5,FALSE),"")) | C33: =IF($A33="","",IFERROR(VLOOKUP($A33,'Cartera'!$A$5:$AC$104,28,FALSE),0)) | D33: =IF($A33="","",IFERROR(VLOOKUP($A33,'Cartera'!$A$5:$AC$104,25,FALSE),0)) | E33: =IF($A33="","",SUMIFS('Proyección 5 años'!$T$10:$T$509,'Proyección 5 años'!$B$10:$B$509,$A33,'Proyección 5 años'!$A$10:$A$509,2026)) | F33: =IF($A33="","",IF(OR($C33<0,$D33<0.9,$E33<0),"Revisar","Correcto"))
A34: =IF('Cartera'!$A7="","",'Cartera'!$A7) | B34: =IF($A34="","",IFERROR(VLOOKUP($A34,'Cartera'!$A$5:$AC$104,5,FALSE),"")) | C34: =IF($A34="","",IFERROR(VLOOKUP($A34,'Cartera'!$A$5:$AC$104,28,FALSE),0)) | D34: =IF($A34="","",IFERROR(VLOOKUP($A34,'Cartera'!$A$5:$AC$104,25,FALSE),0)) | E34: =IF($A34="","",SUMIFS('Proyección 5 años'!$T$10:$T$509,'Proyección 5 años'!$B$10:$B$509,$A34,'Proyección 5 años'!$A$10:$A$509,2026)) | F34: =IF($A34="","",IF(OR($C34<0,$D34<0.9,$E34<0),"Revisar","Correcto"))
A35: =IF('Cartera'!$A8="","",'Cartera'!$A8) | B35: =IF($A35="","",IFERROR(VLOOKUP($A35,'Cartera'!$A$5:$AC$104,5,FALSE),"")) | C35: =IF($A35="","",IFERROR(VLOOKUP($A35,'Cartera'!$A$5:$AC$104,28,FALSE),0)) | D35: =IF($A35="","",IFERROR(VLOOKUP($A35,'Cartera'!$A$5:$AC$104,25,FALSE),0)) | E35: =IF($A35="","",SUMIFS('Proyección 5 años'!$T$10:$T$509,'Proyección 5 años'!$B$10:$B$509,$A35,'Proyección 5 años'!$A$10:$A$509,2026)) | F35: =IF($A35="","",IF(OR($C35<0,$D35<0.9,$E35<0),"Revisar","Correcto"))
A36: =IF('Cartera'!$A9="","",'Cartera'!$A9) | B36: =IF($A36="","",IFERROR(VLOOKUP($A36,'Cartera'!$A$5:$AC$104,5,FALSE),"")) | C36: =IF($A36="","",IFERROR(VLOOKUP($A36,'Cartera'!$A$5:$AC$104,28,FALSE),0)) | D36: =IF($A36="","",IFERROR(VLOOKUP($A36,'Cartera'!$A$5:$AC$104,25,FALSE),0)) | E36: =IF($A36="","",SUMIFS('Proyección 5 años'!$T$10:$T$509,'Proyección 5 años'!$B$10:$B$509,$A36,'Proyección 5 años'!$A$10:$A$509,2026)) | F36: =IF($A36="","",IF(OR($C36<0,$D36<0.9,$E36<0),"Revisar","Correcto"))
A37: =IF('Cartera'!$A10="","",'Cartera'!$A10) | B37: =IF($A37="","",IFERROR(VLOOKUP($A37,'Cartera'!$A$5:$AC$104,5,FALSE),"")) | C37: =IF($A37="","",IFERROR(VLOOKUP($A37,'Cartera'!$A$5:$AC$104,28,FALSE),0)) | D37: =IF($A37="","",IFERROR(VLOOKUP($A37,'Cartera'!$A$5:$AC$104,25,FALSE),0)) | E37: =IF($A37="","",SUMIFS('Proyección 5 años'!$T$10:$T$509,'Proyección 5 años'!$B$10:$B$509,$A37,'Proyección 5 años'!$A$10:$A$509,2026)) | F37: =IF($A37="","",IF(OR($C37<0,$D37<0.9,$E37<0),"Revisar","Correcto"))
